BEGIN:VCALENDAR
VERSION:2.0
PRODID:-//Milliken Memorial Community House - ECPv6.2.8.2//NONSGML v1.0//EN
CALSCALE:GREGORIAN
METHOD:PUBLISH
X-WR-CALNAME:Milliken Memorial Community House
X-ORIGINAL-URL:https://www.themilliken.com
X-WR-CALDESC:Events for Milliken Memorial Community House
REFRESH-INTERVAL;VALUE=DURATION:PT1H
X-Robots-Tag:noindex
X-PUBLISHED-TTL:PT1H
BEGIN:VTIMEZONE
TZID:UTC
BEGIN:STANDARD
TZOFFSETFROM:+0000
TZOFFSETTO:+0000
TZNAME:UTC
DTSTART:20220101T000000
END:STANDARD
END:VTIMEZONE
BEGIN:VEVENT
DTSTART;VALUE=DATE:20240101
DTEND;VALUE=DATE:20240102
DTSTAMP:20260419T200800
CREATED:20230415T023906Z
LAST-MODIFIED:20230415T023906Z
UID:11969-1704067200-1704153599@www.themilliken.com
SUMMARY:Astuary Horizon
DESCRIPTION:An immersive art and history experience. Coming Soon.
URL:https://www.themilliken.com/event/astuary-horizon/
ATTACH;FMTTYPE=image/jpeg:https://www.themilliken.com/wp-content/uploads/2023/04/AH.jpg
END:VEVENT
BEGIN:VEVENT
DTSTART;TZID=UTC:20230624T190000
DTEND;TZID=UTC:20230624T220000
DTSTAMP:20260419T200800
CREATED:20230415T023243Z
LAST-MODIFIED:20230421T010132Z
UID:11966-1687633200-1687644000@www.themilliken.com
SUMMARY:Music at the Milliken
DESCRIPTION:Local artists perform a series of classical and modern piano pieces on the Milliken’s Steinway Grand Piano. Limited seating.
URL:https://www.themilliken.com/event/music-at-the-milliken/
ATTACH;FMTTYPE=image/jpeg:https://www.themilliken.com/wp-content/uploads/2023/04/MM.jpg
END:VEVENT
BEGIN:VEVENT
DTSTART;TZID=UTC:20221031T173000
DTEND;TZID=UTC:20221031T193000
DTSTAMP:20260419T200800
CREATED:20221013T163825Z
LAST-MODIFIED:20221013T163839Z
UID:10452-1667237400-1667244600@www.themilliken.com
SUMMARY:Trick or Treat at the Milliken
DESCRIPTION:A free and family-friendly trick-or-treat experience at the Milliken Memorial Community House is coming on October 31\, 2022. Similar to other homes throughout Todd County on Halloween night\, the Milliken will be offering a treat to any child between the hours of 5:30pm – 7:30pm. Stop by the front colonnade of the “House of the Loving Heart” to see ghouls and receive a special halloween surprise!
URL:https://www.themilliken.com/event/trick-or-treat-at-the-milliken/
LOCATION:Milliken Memorial Community House\, 208 West Main Street\, Elkton\, KY\, 42220\, United States
ATTACH;FMTTYPE=image/jpeg:https://www.themilliken.com/wp-content/uploads/2022/10/TOT-scaled.jpg
END:VEVENT
END:VCALENDAR