BEGIN:VCALENDAR
VERSION:2.0
PRODID:-//Milliken Memorial Community House - ECPv6.2.8.2//NONSGML v1.0//EN
CALSCALE:GREGORIAN
METHOD:PUBLISH
X-WR-CALNAME:Milliken Memorial Community House
X-ORIGINAL-URL:https://www.themilliken.com
X-WR-CALDESC:Events for Milliken Memorial Community House
REFRESH-INTERVAL;VALUE=DURATION:PT1H
X-Robots-Tag:noindex
X-PUBLISHED-TTL:PT1H
BEGIN:VTIMEZONE
TZID:UTC
BEGIN:STANDARD
TZOFFSETFROM:+0000
TZOFFSETTO:+0000
TZNAME:UTC
DTSTART:20240101T000000
END:STANDARD
END:VTIMEZONE
BEGIN:VEVENT
DTSTART;VALUE=DATE:20240101
DTEND;VALUE=DATE:20240102
DTSTAMP:20260423T111907
CREATED:20230415T023906Z
LAST-MODIFIED:20230415T023906Z
UID:11969-1704067200-1704153599@www.themilliken.com
SUMMARY:Astuary Horizon
DESCRIPTION:An immersive art and history experience. Coming Soon.
URL:https://www.themilliken.com/event/astuary-horizon/
ATTACH;FMTTYPE=image/jpeg:https://www.themilliken.com/wp-content/uploads/2023/04/AH.jpg
END:VEVENT
END:VCALENDAR